BEGIN:VCALENDAR
VERSION:2.0
PRODID:-//Nevada Interfaith Association - ECPv6.15.18//NONSGML v1.0//EN
CALSCALE:GREGORIAN
METHOD:PUBLISH
X-ORIGINAL-URL:https://nevadainterfaith.org
X-WR-CALDESC:Events for Nevada Interfaith Association
REFRESH-INTERVAL;VALUE=DURATION:PT1H
X-Robots-Tag:noindex
X-PUBLISHED-TTL:PT1H
BEGIN:VTIMEZONE
TZID:America/Chicago
BEGIN:DAYLIGHT
TZOFFSETFROM:-0600
TZOFFSETTO:-0500
TZNAME:CDT
DTSTART:20220313T080000
END:DAYLIGHT
BEGIN:STANDARD
TZOFFSETFROM:-0500
TZOFFSETTO:-0600
TZNAME:CST
DTSTART:20221106T070000
END:STANDARD
BEGIN:DAYLIGHT
TZOFFSETFROM:-0600
TZOFFSETTO:-0500
TZNAME:CDT
DTSTART:20230312T080000
END:DAYLIGHT
BEGIN:STANDARD
TZOFFSETFROM:-0500
TZOFFSETTO:-0600
TZNAME:CST
DTSTART:20231105T070000
END:STANDARD
BEGIN:DAYLIGHT
TZOFFSETFROM:-0600
TZOFFSETTO:-0500
TZNAME:CDT
DTSTART:20240310T080000
END:DAYLIGHT
BEGIN:STANDARD
TZOFFSETFROM:-0500
TZOFFSETTO:-0600
TZNAME:CST
DTSTART:20241103T070000
END:STANDARD
END:VTIMEZONE
BEGIN:VEVENT
DTSTART;TZID=America/Chicago:20230111T120000
DTEND;TZID=America/Chicago:20230111T133000
DTSTAMP:20260423T153254
CREATED:20221005T001323Z
LAST-MODIFIED:20221005T005231Z
UID:10000024-1673438400-1673443800@nevadainterfaith.org
SUMMARY:Interfaith Association - Clergy Luncheon - Sparks United Methodist Church
DESCRIPTION:Rev. Lee Neish\, Lead Pastor of Sparks United Methodist Church\, and NIA Coordinating Council member\, will host a luncheon on Wednesday; January 11\, 2023 \nLunch will start at 12:00 noon.   Sparks United Methodist Church is “a warm-hearted and fun-loving community of people who enjoy growing our relationships with God and each other”. \nTwice a year\, the NIA hosts a luncheon for those members of a religious organization and for those in non-profit organizations who also serve the community. The goal is to share information about what is happening in their respective areas and to promote the event for support if needed. Guest speakers offer insights and participants share what’s going on in their community. It is an opportunity to make friends and to build camaraderie as we understand our differences but respect what we have in common and aim to support one another in exercising our religious freedom.
URL:https://nevadainterfaith.org/event/interfaith-association-clergy-luncheon-sparks-united-methodist-church/
LOCATION:Sparks United Methodist Church\, 1231 Pyramid Way/Oddie\, Sparks\, NV\, 89431\, United States
ATTACH;FMTTYPE=image/jpeg:https://nevadainterfaith.org/wp-content/uploads/lunch3.jpg
END:VEVENT
END:VCALENDAR