BEGIN:VCALENDAR
VERSION:2.0
PRODID:-//Nevada Interfaith Association - ECPv6.15.18//NONSGML v1.0//EN
CALSCALE:GREGORIAN
METHOD:PUBLISH
X-ORIGINAL-URL:https://nevadainterfaith.org
X-WR-CALDESC:Events for Nevada Interfaith Association
REFRESH-INTERVAL;VALUE=DURATION:PT1H
X-Robots-Tag:noindex
X-PUBLISHED-TTL:PT1H
BEGIN:VTIMEZONE
TZID:America/Chicago
BEGIN:DAYLIGHT
TZOFFSETFROM:-0600
TZOFFSETTO:-0500
TZNAME:CDT
DTSTART:20200308T080000
END:DAYLIGHT
BEGIN:STANDARD
TZOFFSETFROM:-0500
TZOFFSETTO:-0600
TZNAME:CST
DTSTART:20201101T070000
END:STANDARD
BEGIN:DAYLIGHT
TZOFFSETFROM:-0600
TZOFFSETTO:-0500
TZNAME:CDT
DTSTART:20210314T080000
END:DAYLIGHT
BEGIN:STANDARD
TZOFFSETFROM:-0500
TZOFFSETTO:-0600
TZNAME:CST
DTSTART:20211107T070000
END:STANDARD
BEGIN:DAYLIGHT
TZOFFSETFROM:-0600
TZOFFSETTO:-0500
TZNAME:CDT
DTSTART:20220313T080000
END:DAYLIGHT
BEGIN:STANDARD
TZOFFSETFROM:-0500
TZOFFSETTO:-0600
TZNAME:CST
DTSTART:20221106T070000
END:STANDARD
BEGIN:DAYLIGHT
TZOFFSETFROM:-0600
TZOFFSETTO:-0500
TZNAME:CDT
DTSTART:20230312T080000
END:DAYLIGHT
BEGIN:STANDARD
TZOFFSETFROM:-0500
TZOFFSETTO:-0600
TZNAME:CST
DTSTART:20231105T070000
END:STANDARD
BEGIN:DAYLIGHT
TZOFFSETFROM:-0600
TZOFFSETTO:-0500
TZNAME:CDT
DTSTART:20240310T080000
END:DAYLIGHT
BEGIN:STANDARD
TZOFFSETFROM:-0500
TZOFFSETTO:-0600
TZNAME:CST
DTSTART:20241103T070000
END:STANDARD
BEGIN:DAYLIGHT
TZOFFSETFROM:-0600
TZOFFSETTO:-0500
TZNAME:CDT
DTSTART:20250309T080000
END:DAYLIGHT
BEGIN:STANDARD
TZOFFSETFROM:-0500
TZOFFSETTO:-0600
TZNAME:CST
DTSTART:20251102T070000
END:STANDARD
END:VTIMEZONE
BEGIN:VEVENT
DTSTART;TZID=America/Chicago:20240508T070000
DTEND;TZID=America/Chicago:20240508T090000
DTSTAMP:20260422T213535
CREATED:20240314T233110Z
LAST-MODIFIED:20260212T233933Z
UID:10000035-1715151600-1715158800@nevadainterfaith.org
SUMMARY:Nevada Prayer Breakfast-2026
DESCRIPTION:As individuals and communities\, we may believe differently in our approach to the Divine\, yet we gather at the Nevada Prayer Breakfast equally\, inclusively\, and without discrimination for our common purpose. Together we devote our energies to the good of the State of Nevada. \n\nTHE COMPLETE STACK SERVED BREAKFAST –  Breakfast Served at 7:00AM\nOrange Juice· PRE·SET Fruit Bowl  – Coffee\, Decaf & Hot Tea Service”\nFrench Toast with butter & syrup – Fresh Scrambled Eggs\nBasket of Assorted Muffins (some sweet) at each table                 *Sorry we do not have a way to order special meals from Atlantis\n\nSpecial note: When ordering tickets\, please include your denomination/religious tradition so we can organize who is sitting where.   Tables of 8 or Individual tickets     —Click here for TICKETS—  
URL:https://nevadainterfaith.org/event/nevada-prayer-breakfast-2025-2/
LOCATION:Atlantis Casino Resort Spa\, 3800 South Virginia Street\, Reno\, NV\, 89502\, United States
CATEGORIES:COMMUNITY EVENT,NIA EVENT
ATTACH;FMTTYPE=image/jpeg:https://nevadainterfaith.org/wp-content/uploads/NIA_PB_banner217may23-e1711043102931.jpg
END:VEVENT
BEGIN:VEVENT
DTSTART;TZID=America/Chicago:20240108T113000
DTEND;TZID=America/Chicago:20240108T130000
DTSTAMP:20260422T213535
CREATED:20231228T180709Z
LAST-MODIFIED:20240101T202447Z
UID:10000031-1704713400-1704718800@nevadainterfaith.org
SUMMARY:NIA - Interfaith Luncheon - VA Medical Center
DESCRIPTION:Please join us for our Nevada Interfaith Association’s Bi-Annual Luncheon\, Monday\, January 8\, 2024\, at 11:30 a.m.  It will be hosted by Chaplains at the Veteran’s Administration Medical Center\, 975 Kirman Avenue\, Reno\, NV  89502 \nTwice a year\, the NIA hosts a luncheon for those members of a religious organization and for those in non-profit organizations who also serve the community. The goal is to share information about what is happening in their respective areas and to promote the event for support if needed. Guest speakers offer insights and participants share what’s going on in their community. It is an opportunity to make friends and to build camaraderie as we understand our differences but respect what we have in common and aim to support one another in exercising our religious freedom.
URL:https://nevadainterfaith.org/event/nia-clergy-luncheon-va-medical-center/
LOCATION:VA Medical Center\, Reno\, 975 Kirman Avenue\, Reno\, NV\, 89502\, United States
CATEGORIES:COMMUNITY EVENT,NIA EVENT
ATTACH;FMTTYPE=image/jpeg:https://nevadainterfaith.org/wp-content/uploads/lunch3.jpg
END:VEVENT
BEGIN:VEVENT
DTSTART;TZID=America/Chicago:20231116T190000
DTEND;TZID=America/Chicago:20231116T190000
DTSTAMP:20260422T213535
CREATED:20231027T172116Z
LAST-MODIFIED:20231027T172116Z
UID:10000029-1700161200-1700161200@nevadainterfaith.org
SUMMARY:Nevada Interfaith Thanksgiving - Thirty Eighth Annual
DESCRIPTION:“Blessed are the Peacemakers”\nA Thanksgiving worship service of prayer and music from a variety of faith traditions\,\nsponsored by the Nevada Interfaith Association. \nWe have come together as God’s children to enrich our lives through an interfaith experience. During the service friends from various faiths will express praise and thanks according to their faith traditions. Portions of this service have also been selected to represent those elements of worship that are shared by all our traditions. \nOur Thanksgiving service is a beautiful way to give true meaning to the Thanksgiving Holiday. Focusing on the historical significance of Thanksgiving in music and the spoken word in multi-interfaith voices makes for a memorable evening.
URL:https://nevadainterfaith.org/event/nevada-interfaith-thanksgiving-thirty-eighth-annual-23/
LOCATION:Trinity Episcopal Catherdral\, 200 Island Ave\, Reno
CATEGORIES:COMMUNITY EVENT,NIA EVENT
ATTACH;FMTTYPE=image/jpeg:https://nevadainterfaith.org/wp-content/uploads/37thNIA-tgivingslug.jpg
END:VEVENT
BEGIN:VEVENT
DTSTART;TZID=America/Chicago:20230517T063000
DTEND;TZID=America/Chicago:20230517T090000
DTSTAMP:20260422T213535
CREATED:20230303T180337Z
LAST-MODIFIED:20230407T214050Z
UID:10000025-1684305000-1684314000@nevadainterfaith.org
SUMMARY:Nevada Prayer Breakfast 2023
DESCRIPTION:“Living Art – Pathway to Peace” is the theme for the Nevada Prayer Breakfast. Our annual community gathering where we offer prayerful support for our State and our leaders. We also honor outstanding\, visionary people and organizations in our community for their unique and caring work to benefit of all.  As individuals and communities\, we may believe differently in our approach to the Divine\, yet we gather at the Nevada Prayer Breakfast equally\, inclusively\, and without discrimination for our common purpose. Together we devote our energies to the good of the State of Nevada. \n\nTHE COMPLETE STACK SERVED BREAKFAST –  Breakfast Served at 7:00AM\nOrange Juice· PRE·SET Fruit Bowl\nFrench Toast with butter & syrup\nFresh Scrambled Eggs\nBasket of Assorted Muffins (some sweet) at each table\n“Coffee\, Decaf & Hot Tea Service”\n*Sorry we do not have a way to order special meals from Atlantis\n\n\nSpecial note: When ordering\, please write your denomination/religious tradition after you name so we can organize who is sitting where.
URL:https://nevadainterfaith.org/event/nevada-prayer-breakfast-2023/
LOCATION:Atlantis Casino Resort Spa\, 3800 South Virginia Street\, Reno\, NV\, 89502\, United States
CATEGORIES:COMMUNITY EVENT,NIA EVENT
ATTACH;FMTTYPE=image/jpeg:https://nevadainterfaith.org/wp-content/uploads/NIA_PB_banner217may23-e1711043102931.jpg
END:VEVENT
BEGIN:VEVENT
DTSTART;TZID=America/Chicago:20221117T183000
DTEND;TZID=America/Chicago:20221117T183000
DTSTAMP:20260422T213535
CREATED:20221114T170107Z
LAST-MODIFIED:20221115T004552Z
UID:10000013-1668709800-1668709800@nevadainterfaith.org
SUMMARY:Nevada Interfaith Thanksgiving - Thirty Seventh Annual
DESCRIPTION:“Giving Thanks and Praying for Peace”\nKeynote Speaker: Dr. Carina Black\, Northern Nevada International Center\nA worship service of prayer and music from a variety of faith traditions\,\nsponsored by the Nevada Interfaith Association. \nWe have come together as God’s children to enrich our lives through an interfaith experience. During the service friends from various faiths will express praise and thanks according to their faith traditions. Portions of this service have also been selected to represent those elements of worship that are shared by all our traditions. \nOur Thanksgiving service is a beautiful way to give true meaning to the Thanksgiving Holiday. Focusing on the historical significance of Thanksgiving in music and the spoken word in multi-interfaith voices makes for a memorable evening.
URL:https://nevadainterfaith.org/event/nevada-interfaith-thanksgiving-thirty-seventh-annual/
LOCATION:Church of Jesus Christ of Latter-day Saints – Golconda\, 1059 Golconda Dr\, Reno\, NV\, 89509\, United States
CATEGORIES:COMMUNITY EVENT,NIA EVENT
ATTACH;FMTTYPE=image/jpeg:https://nevadainterfaith.org/wp-content/uploads/37thNIA-tgivingslug.jpg
END:VEVENT
BEGIN:VEVENT
DTSTART;TZID=America/Chicago:20220706T120000
DTEND;TZID=America/Chicago:20220706T133000
DTSTAMP:20260422T213535
CREATED:20220511T151445Z
LAST-MODIFIED:20220518T232140Z
UID:10000015-1657108800-1657114200@nevadainterfaith.org
SUMMARY:Interfaith Luncheon - Temple Sinai - July 6th 2022
DESCRIPTION:Temple Sinai hosts the NIA luncheon this summer. This lunch is for leaders of a religious organization and for those in non-profit organizations who also serve the community. The goal is to share information about what is happening in their respective areas and to promote events for support if needed.  It is an opportunity to make friends and to build camaraderie as we understand our differences.  We always respect what we have in common and aim to support one another in exercising our religious freedom. \nThere will be a tour of the Temple too!
URL:https://nevadainterfaith.org/event/interfaith-luncheon2022/
LOCATION:Temple Sinai Reno\, 3405 Gulling Rd\, Reno\, NV\, 89503\, United States
CATEGORIES:NIA EVENT
ATTACH;FMTTYPE=image/jpeg:https://nevadainterfaith.org/wp-content/uploads/lunch3.jpg
END:VEVENT
BEGIN:VEVENT
DTSTART;TZID=America/Chicago:20220518T070000
DTEND;TZID=America/Chicago:20220518T090000
DTSTAMP:20260422T213535
CREATED:20220315T214951Z
LAST-MODIFIED:20220518T043359Z
UID:10000016-1652857200-1652864400@nevadainterfaith.org
SUMMARY:Nevada Prayer Breakfast 2022
DESCRIPTION:Last Minute TICKETS at the door!\nThe Nevada Prayer Breakfast is a community gathering at which we offer prayerful support for our State and our leaders. We also honor outstanding\, visionary people and organizations in our community for their unique and caring work for the benefit of all. As individuals and communities\, we may believe differently in our approach to the Divine\, yet we gather at the Nevada Prayer Breakfast equally\, inclusively and without discrimination for a common purpose. Together we devote our energies to the good of the State of Nevada. – Together we pray –\nBreakfast Served at 7:00AM\n-THE COMPLETE STACK SERVED BREAKFAST- \n\nOrange Juice· PRE·SET Fruit Bowl\nFrench Toast with butter & syrup\nFresh Scrambled Eggs\nBasket of Assorted Muffins (some sweet) at each table\n“Coffee\, Decaf & Hot Tea Service”\n*Sorry we do not have a way to order special meals from Atlantis\n\n\nSpecial note: When ordering\, please write your denomination/religious tradition after you name so we can organize who is sitting where. \nLast Minute TICKETS at the Door!
URL:https://nevadainterfaith.org/event/nevada-prayer-breakfast-2022/
LOCATION:Atlantis Casino Resort Spa\, 3800 South Virginia Street\, Reno\, NV\, 89502\, United States
CATEGORIES:COMMUNITY EVENT,NIA EVENT
ATTACH;FMTTYPE=image/png:https://nevadainterfaith.org/wp-content/uploads/nevadaprayerbreakfast.png
END:VEVENT
BEGIN:VEVENT
DTSTART;TZID=America/Chicago:20211121T190000
DTEND;TZID=America/Chicago:20211121T210000
DTSTAMP:20260422T213535
CREATED:20211112T223114Z
LAST-MODIFIED:20211112T223114Z
UID:10000021-1637521200-1637528400@nevadainterfaith.org
SUMMARY:Nevada Interfaith Thanksgiving Service - Thirty-Sixth Annual
DESCRIPTION:An Attitude of Gratitude\nA Worship Service of Prayer and Music\nFrom A Variety of Faith Traditions\nSponsored by the Nevada Interfaith Association \nWe come together as God’s children to enrich our lives through interfaith experience. During the service individuals from various faiths will express praise and thanks according to their faith traditions. Portions of this service have also been selected to represent those elements of worship that are shared by all our traditions. \nSunday\, November 21\, 2021\, 7:00 PM\nImmaculate Conception Catholic Church\n2900 N McCarran Blvd\, Sparks\, NV 89431 \n*Masks are required
URL:https://nevadainterfaith.org/event/nevada-interfaith-thanksgiving-service-thirty-sixth-annual/
LOCATION:Immaculate Conception Catholic Church\, 2900 N McCarran Blvd\, Sparks\, NV\, 89431\, United States
CATEGORIES:COMMUNITY EVENT,NIA EVENT
ATTACH;FMTTYPE=image/jpeg:https://nevadainterfaith.org/wp-content/uploads/Thanksgiving-2021-scaled.jpg
END:VEVENT
END:VCALENDAR