BEGIN:VCALENDAR
VERSION:2.0
PRODID:-//Nevada Interfaith Association - ECPv6.15.18//NONSGML v1.0//EN
CALSCALE:GREGORIAN
METHOD:PUBLISH
X-WR-CALNAME:Nevada Interfaith Association
X-ORIGINAL-URL:https://nevadainterfaith.org
X-WR-CALDESC:Events for Nevada Interfaith Association
REFRESH-INTERVAL;VALUE=DURATION:PT1H
X-Robots-Tag:noindex
X-PUBLISHED-TTL:PT1H
BEGIN:VTIMEZONE
TZID:America/Chicago
BEGIN:DAYLIGHT
TZOFFSETFROM:-0600
TZOFFSETTO:-0500
TZNAME:CDT
DTSTART:20250309T080000
END:DAYLIGHT
BEGIN:STANDARD
TZOFFSETFROM:-0500
TZOFFSETTO:-0600
TZNAME:CST
DTSTART:20251102T070000
END:STANDARD
BEGIN:DAYLIGHT
TZOFFSETFROM:-0600
TZOFFSETTO:-0500
TZNAME:CDT
DTSTART:20260308T080000
END:DAYLIGHT
BEGIN:STANDARD
TZOFFSETFROM:-0500
TZOFFSETTO:-0600
TZNAME:CST
DTSTART:20261101T070000
END:STANDARD
BEGIN:DAYLIGHT
TZOFFSETFROM:-0600
TZOFFSETTO:-0500
TZNAME:CDT
DTSTART:20270314T080000
END:DAYLIGHT
BEGIN:STANDARD
TZOFFSETFROM:-0500
TZOFFSETTO:-0600
TZNAME:CST
DTSTART:20271107T070000
END:STANDARD
END:VTIMEZONE
BEGIN:VEVENT
DTSTART;TZID=America/Chicago:20260426T130000
DTEND;TZID=America/Chicago:20260426T140000
DTSTAMP:20260425T103711
CREATED:20260421T223137Z
LAST-MODIFIED:20260421T223137Z
UID:10000230-1777208400-1777212000@nevadainterfaith.org
SUMMARY:Quaker Silent Worship for Peace
DESCRIPTION:On Sunday\, April 26 at 1 p.m.\, Friends\, members of other faith communities\, and people of conscience will gather for one hour of silent public worship in Idlewild Park. Our hope is that our presence will give hope to all who see us – to show that we can choose resistance – and remind everyone of our moral obligations to one another. \nLove as Action: Resisting Authoritarianism \nSunday\, April 26 at 1 p.m. Idlewild Park (lawn west of the California Building) 2055 Idlewild Dr.\, Reno\, NV 89509 \nRegistration is encouraged but not required. We also invite Friends to create and bring their own posters that share messages of resistance and hope. \n\n\n\n\n\n\n\n\n\n\n\n\nIn Peace\, AFSC Quaker Engagement \n\n\n\n\n\n\n 
URL:https://nevadainterfaith.org/event/quaker-silent-worship-for-peace/
CATEGORIES:COMMUNITY EVENT
END:VEVENT
END:VCALENDAR